BEGIN:VCALENDAR
VERSION:2.0
PRODID:Chelsea Handler
BEGIN:VEVENT
UID:69e55146468f3
DTSTART:20100404T010000Z
SEQUENCE:0
TRANSP:OPAQUE
DTEND:20100404T010000Z
SUMMARY:Chelsea Handler
CLASS:PUBLIC
DTSTAMP:20260419T220350Z
END:VEVENT
BEGIN:VEVENT
UID:69e551464691d
DTSTART:20100404T033000Z
SEQUENCE:0
TRANSP:OPAQUE
DTEND:20100404T033000Z
SUMMARY:Chelsea Handler
CLASS:PUBLIC
DTSTAMP:20260419T220350Z
END:VEVENT
END:VCALENDAR