BEGIN:VCALENDAR
VERSION:2.0
PRODID:The Poor Nobodys
BEGIN:VEVENT
UID:69e6fba0c2a52
DTSTART:20100630T170000Z
SEQUENCE:0
TRANSP:OPAQUE
DTEND:20100630T170000Z
SUMMARY:The Poor Nobodys
CLASS:PUBLIC
DTSTAMP:20260421T042256Z
END:VEVENT
END:VCALENDAR