BEGIN:VCALENDAR
VERSION:2.0
PRODID:Romantic String Sextets
BEGIN:VEVENT
UID:69e586a86d87c
DTSTART:20120207T013000Z
SEQUENCE:0
TRANSP:OPAQUE
DTEND:20120207T013000Z
SUMMARY:Romantic String Sextets
CLASS:PUBLIC
DTSTAMP:20260420T015136Z
END:VEVENT
END:VCALENDAR