BEGIN:VCALENDAR
VERSION:2.0
PRODID:Haley Bonar
BEGIN:VEVENT
UID:69e666b578930
DTSTART:20120609T000000Z
SEQUENCE:0
TRANSP:OPAQUE
DTEND:20120609T000000Z
SUMMARY:Haley Bonar
CLASS:PUBLIC
DTSTAMP:20260420T174733Z
END:VEVENT
END:VCALENDAR