BEGIN:VCALENDAR
VERSION:2.0
PRODID:Wayne McGregor | Random Dance
BEGIN:VEVENT
UID:69e4d9e4031da
DTSTART:20140115T013000Z
SEQUENCE:0
TRANSP:OPAQUE
DTEND:20140115T013000Z
SUMMARY:Wayne McGregor | Random Dance
CLASS:PUBLIC
DTSTAMP:20260419T133428Z
END:VEVENT
END:VCALENDAR