BEGIN:VCALENDAR
VERSION:2.0
PRODID:American Scarecrows
BEGIN:VEVENT
UID:69e74adf576bf
DTSTART:20130925T170000Z
SEQUENCE:0
TRANSP:OPAQUE
DTEND:20130925T170000Z
SUMMARY:American Scarecrows
CLASS:PUBLIC
DTSTAMP:20260421T100103Z
END:VEVENT
END:VCALENDAR