BEGIN:VCALENDAR
VERSION:2.0
PRODID:Dessa
BEGIN:VEVENT
UID:69e59895a4b13
DTSTART:20131005T003000Z
SEQUENCE:0
TRANSP:OPAQUE
DTEND:20131005T003000Z
SUMMARY:Dessa
CLASS:PUBLIC
DTSTAMP:20260420T030805Z
END:VEVENT
END:VCALENDAR