BEGIN:VCALENDAR
VERSION:2.0
PRODID:Dance Revolutions
BEGIN:VEVENT
UID:69e6cb3078c04
DTSTART:20091212T020000Z
SEQUENCE:0
TRANSP:OPAQUE
DTEND:20091212T020000Z
SUMMARY:Dance Revolutions
CLASS:PUBLIC
DTSTAMP:20260421T005616Z
END:VEVENT
BEGIN:VEVENT
UID:69e6cb3078c2a
DTSTART:20091213T020000Z
SEQUENCE:0
TRANSP:OPAQUE
DTEND:20091213T020000Z
SUMMARY:Dance Revolutions
CLASS:PUBLIC
DTSTAMP:20260421T005616Z
END:VEVENT
BEGIN:VEVENT
UID:69e6cb3078c2e
DTSTART:20091214T020000Z
SEQUENCE:0
TRANSP:OPAQUE
DTEND:20091214T020000Z
SUMMARY:Dance Revolutions
CLASS:PUBLIC
DTSTAMP:20260421T005616Z
END:VEVENT
END:VCALENDAR