BEGIN:VCALENDAR
VERSION:2.0
PRODID:Ukrainian Character Dancing
BEGIN:VEVENT
UID:69e54ad75416d
DTSTART:20091010T210000Z
SEQUENCE:0
TRANSP:OPAQUE
DTEND:20091010T210000Z
SUMMARY:Ukrainian Character Dancing
CLASS:PUBLIC
DTSTAMP:20260419T213623Z
END:VEVENT
END:VCALENDAR