BEGIN:VCALENDAR
VERSION:2.0
PRODID:Performance Preview
BEGIN:VEVENT
UID:69ec29c16c264
DTSTART:20091011T201500Z
SEQUENCE:0
TRANSP:OPAQUE
DTEND:20091011T201500Z
SUMMARY:Performance Preview
CLASS:PUBLIC
DTSTAMP:20260425T024105Z
END:VEVENT
END:VCALENDAR