BEGIN:VCALENDAR
VERSION:2.0
PRODID:Performance Preview
BEGIN:VEVENT
UID:69e598509189f
DTSTART:20100315T234500Z
SEQUENCE:0
TRANSP:OPAQUE
DTEND:20100315T234500Z
SUMMARY:Performance Preview
CLASS:PUBLIC
DTSTAMP:20260420T030656Z
END:VEVENT
END:VCALENDAR