BEGIN:VCALENDAR
VERSION:2.0
PRODID:Lehto and Wright
BEGIN:VEVENT
UID:69ebd771e2123
DTSTART:20100617T170000Z
SEQUENCE:0
TRANSP:OPAQUE
DTEND:20100617T170000Z
SUMMARY:Lehto and Wright
CLASS:PUBLIC
DTSTAMP:20260424T204953Z
END:VEVENT
END:VCALENDAR