BEGIN:VCALENDAR
VERSION:2.0
PRODID:Real Tyme
BEGIN:VEVENT
UID:69e4d79492db4
DTSTART:20100706T170000Z
SEQUENCE:0
TRANSP:OPAQUE
DTEND:20100706T170000Z
SUMMARY:Real Tyme
CLASS:PUBLIC
DTSTAMP:20260419T132436Z
END:VEVENT
END:VCALENDAR