BEGIN:VCALENDAR
VERSION:2.0
PRODID:Ravi Coltrane Quartet & Roy Haynes Quartet
BEGIN:VEVENT
UID:69e598544b326
DTSTART:20080307T020000Z
SEQUENCE:0
TRANSP:OPAQUE
DTEND:20080307T020000Z
SUMMARY:Ravi Coltrane Quartet & Roy Haynes Quartet
CLASS:PUBLIC
DTSTAMP:20260420T030700Z
END:VEVENT
END:VCALENDAR