BEGIN:VCALENDAR
VERSION:2.0
PRODID:The May North
BEGIN:VEVENT
UID:69e53411c9e26
DTSTART:20100721T170000Z
SEQUENCE:0
TRANSP:OPAQUE
DTEND:20100721T170000Z
SUMMARY:The May North
CLASS:PUBLIC
DTSTAMP:20260419T195913Z
END:VEVENT
END:VCALENDAR