BEGIN:VCALENDAR
VERSION:2.0
PRODID:John Denver
BEGIN:VEVENT
UID:69e723c7df8e6
DTSTART:19911005T050000Z
SEQUENCE:0
TRANSP:OPAQUE
DTEND:19911005T050000Z
SUMMARY:John Denver
CLASS:PUBLIC
DTSTAMP:20260421T071415Z
END:VEVENT
END:VCALENDAR