BEGIN:VCALENDAR
VERSION:2.0
PRODID:David Copperfield
BEGIN:VEVENT
UID:69e617db38340
DTSTART:19911002T050000Z
SEQUENCE:0
TRANSP:OPAQUE
DTEND:19911002T050000Z
SUMMARY:David Copperfield
CLASS:PUBLIC
DTSTAMP:20260420T121107Z
END:VEVENT
END:VCALENDAR