BEGIN:VCALENDAR
VERSION:2.0
PRODID:Queen Ida
BEGIN:VEVENT
UID:69e6cb30e91e8
DTSTART:19910728T050000Z
SEQUENCE:0
TRANSP:OPAQUE
DTEND:19910728T050000Z
SUMMARY:Queen Ida
CLASS:PUBLIC
DTSTAMP:20260421T005616Z
END:VEVENT
END:VCALENDAR