BEGIN:VCALENDAR
VERSION:2.0
PRODID:The Bobs
BEGIN:VEVENT
UID:69e59854ceb77
DTSTART:19910620T050000Z
SEQUENCE:0
TRANSP:OPAQUE
DTEND:19910620T050000Z
SUMMARY:The Bobs
CLASS:PUBLIC
DTSTAMP:20260420T030700Z
END:VEVENT
END:VCALENDAR