BEGIN:VCALENDAR
VERSION:2.0
PRODID:Rush Limbaugh
BEGIN:VEVENT
UID:69e598b53d2d9
DTSTART:19901208T060000Z
SEQUENCE:0
TRANSP:OPAQUE
DTEND:19901208T060000Z
SUMMARY:Rush Limbaugh
CLASS:PUBLIC
DTSTAMP:20260420T030837Z
END:VEVENT
END:VCALENDAR