BEGIN:VCALENDAR
VERSION:2.0
PRODID:Morrissey
BEGIN:VEVENT
UID:69e742041534a
DTSTART:19911107T060000Z
SEQUENCE:0
TRANSP:OPAQUE
DTEND:19911107T060000Z
SUMMARY:Morrissey
CLASS:PUBLIC
DTSTAMP:20260421T092316Z
END:VEVENT
END:VCALENDAR