BEGIN:VCALENDAR
VERSION:2.0
PRODID:Nigel Kennedy
BEGIN:VEVENT
UID:69ec3cab3defa
DTSTART:19920425T050000Z
SEQUENCE:0
TRANSP:OPAQUE
DTEND:19920425T050000Z
SUMMARY:Nigel Kennedy
CLASS:PUBLIC
DTSTAMP:20260425T040147Z
END:VEVENT
END:VCALENDAR