BEGIN:VCALENDAR
VERSION:2.0
PRODID:Kenny G
BEGIN:VEVENT
UID:69e50bf05fdeb
DTSTART:19930406T050000Z
SEQUENCE:0
TRANSP:OPAQUE
DTEND:19930406T050000Z
SUMMARY:Kenny G
CLASS:PUBLIC
DTSTAMP:20260419T170800Z
END:VEVENT
END:VCALENDAR