BEGIN:VCALENDAR
VERSION:2.0
PRODID:Trimpin
BEGIN:VEVENT
UID:69e534112e78c
DTSTART:19930922T050000Z
SEQUENCE:0
TRANSP:OPAQUE
DTEND:19930922T050000Z
SUMMARY:Trimpin
CLASS:PUBLIC
DTSTAMP:20260419T195913Z
END:VEVENT
END:VCALENDAR