BEGIN:VCALENDAR
VERSION:2.0
PRODID:Bette Midler
BEGIN:VEVENT
UID:69e5e94c0ec03
DTSTART:19930820T050000Z
SEQUENCE:0
TRANSP:OPAQUE
DTEND:19930820T050000Z
SUMMARY:Bette Midler
CLASS:PUBLIC
DTSTAMP:20260420T085228Z
END:VEVENT
END:VCALENDAR