BEGIN:VCALENDAR
VERSION:2.0
PRODID:Dwight Yoakam
BEGIN:VEVENT
UID:69ecbc5f83fcd
DTSTART:19930711T050000Z
SEQUENCE:0
TRANSP:OPAQUE
DTEND:19930711T050000Z
SUMMARY:Dwight Yoakam
CLASS:PUBLIC
DTSTAMP:20260425T130639Z
END:VEVENT
END:VCALENDAR