BEGIN:VCALENDAR
VERSION:2.0
PRODID:Jane Goodall
BEGIN:VEVENT
UID:69e74edaada9e
DTSTART:19930422T050000Z
SEQUENCE:0
TRANSP:OPAQUE
DTEND:19930422T050000Z
SUMMARY:Jane Goodall
CLASS:PUBLIC
DTSTAMP:20260421T101802Z
END:VEVENT
END:VCALENDAR