BEGIN:VCALENDAR
VERSION:2.0
PRODID:Headliners Dance Competition
BEGIN:VEVENT
UID:69e5038f73d2c
DTSTART:20060318T060000Z
SEQUENCE:0
TRANSP:OPAQUE
DTEND:20060318T060000Z
SUMMARY:Headliners Dance Competition
CLASS:PUBLIC
DTSTAMP:20260419T163215Z
END:VEVENT
END:VCALENDAR