BEGIN:VCALENDAR
VERSION:2.0
PRODID:Twin Star Rocket
BEGIN:VEVENT
UID:69e99345cdbd2
DTSTART:20100622T170000Z
SEQUENCE:0
TRANSP:OPAQUE
DTEND:20100622T170000Z
SUMMARY:Twin Star Rocket
CLASS:PUBLIC
DTSTAMP:20260423T033429Z
END:VEVENT
END:VCALENDAR