BEGIN:VCALENDAR
VERSION:2.0
PRODID:David Gray
BEGIN:VEVENT
UID:69e534117dcc9
DTSTART:20051013T050000Z
SEQUENCE:0
TRANSP:OPAQUE
DTEND:20051013T050000Z
SUMMARY:David Gray
CLASS:PUBLIC
DTSTAMP:20260419T195913Z
END:VEVENT
END:VCALENDAR