BEGIN:VCALENDAR
VERSION:2.0
PRODID:Dido
BEGIN:VEVENT
UID:69e611d669450
DTSTART:20040604T050000Z
SEQUENCE:0
TRANSP:OPAQUE
DTEND:20040604T050000Z
SUMMARY:Dido
CLASS:PUBLIC
DTSTAMP:20260420T114526Z
END:VEVENT
END:VCALENDAR