BEGIN:VCALENDAR
VERSION:2.0
PRODID:David Gray
BEGIN:VEVENT
UID:69e59854caa72
DTSTART:20030208T060000Z
SEQUENCE:0
TRANSP:OPAQUE
DTEND:20030208T060000Z
SUMMARY:David Gray
CLASS:PUBLIC
DTSTAMP:20260420T030700Z
END:VEVENT
END:VCALENDAR