BEGIN:VCALENDAR
VERSION:2.0
PRODID:Roy Haynes
BEGIN:VEVENT
UID:69e6cb305346a
DTSTART:20021019T050000Z
SEQUENCE:0
TRANSP:OPAQUE
DTEND:20021019T050000Z
SUMMARY:Roy Haynes
CLASS:PUBLIC
DTSTAMP:20260421T005616Z
END:VEVENT
END:VCALENDAR