BEGIN:VCALENDAR
VERSION:2.0
PRODID:Willie Nelson
BEGIN:VEVENT
UID:69ea4be315667
DTSTART:20020329T060000Z
SEQUENCE:0
TRANSP:OPAQUE
DTEND:20020329T060000Z
SUMMARY:Willie Nelson
CLASS:PUBLIC
DTSTAMP:20260423T164211Z
END:VEVENT
END:VCALENDAR