BEGIN:VCALENDAR
VERSION:2.0
PRODID:ICP Orchestra
BEGIN:VEVENT
UID:69ed81a2acf6b
DTSTART:20011116T060000Z
SEQUENCE:0
TRANSP:OPAQUE
DTEND:20011116T060000Z
SUMMARY:ICP Orchestra
CLASS:PUBLIC
DTSTAMP:20260426T030818Z
END:VEVENT
END:VCALENDAR