BEGIN:VCALENDAR
VERSION:2.0
PRODID:Showstoppers Dance Competition
BEGIN:VEVENT
UID:69e5982885ee2
DTSTART:20010519T050000Z
SEQUENCE:0
TRANSP:OPAQUE
DTEND:20010519T050000Z
SUMMARY:Showstoppers Dance Competition
CLASS:PUBLIC
DTSTAMP:20260420T030616Z
END:VEVENT
END:VCALENDAR