BEGIN:VCALENDAR
VERSION:2.0
PRODID:U.S. Post Office
BEGIN:VEVENT
UID:69e735c942a1b
DTSTART:20010124T060000Z
SEQUENCE:0
TRANSP:OPAQUE
DTEND:20010124T060000Z
SUMMARY:U.S. Post Office
CLASS:PUBLIC
DTSTAMP:20260421T083105Z
END:VEVENT
END:VCALENDAR