BEGIN:VCALENDAR
VERSION:2.0
PRODID:Karrin Allyson
BEGIN:VEVENT
UID:69e598542dcf3
DTSTART:20001118T060000Z
SEQUENCE:0
TRANSP:OPAQUE
DTEND:20001118T060000Z
SUMMARY:Karrin Allyson
CLASS:PUBLIC
DTSTAMP:20260420T030700Z
END:VEVENT
END:VCALENDAR