BEGIN:VCALENDAR
VERSION:2.0
PRODID:Dungeons & Dragons
BEGIN:VEVENT
UID:69eca03213f37
DTSTART:20000929T050000Z
SEQUENCE:0
TRANSP:OPAQUE
DTEND:20000929T050000Z
SUMMARY:Dungeons & Dragons
CLASS:PUBLIC
DTSTAMP:20260425T110626Z
END:VEVENT
END:VCALENDAR