BEGIN:VCALENDAR
VERSION:2.0
PRODID:Ani DiFranco
BEGIN:VEVENT
UID:69e5b35c4c6c3
DTSTART:20000314T060000Z
SEQUENCE:0
TRANSP:OPAQUE
DTEND:20000314T060000Z
SUMMARY:Ani DiFranco
CLASS:PUBLIC
DTSTAMP:20260420T050220Z
END:VEVENT
END:VCALENDAR