BEGIN:VCALENDAR
VERSION:2.0
PRODID:Cecil Taylor Quartet
BEGIN:VEVENT
UID:69e63dc55a290
DTSTART:20000219T060000Z
SEQUENCE:0
TRANSP:OPAQUE
DTEND:20000219T060000Z
SUMMARY:Cecil Taylor Quartet
CLASS:PUBLIC
DTSTAMP:20260420T145253Z
END:VEVENT
END:VCALENDAR