BEGIN:VCALENDAR
VERSION:2.0
PRODID:Blackout 2000 featuring Redman & Methodman
BEGIN:VEVENT
UID:69ecf97361cc4
DTSTART:20000204T060000Z
SEQUENCE:0
TRANSP:OPAQUE
DTEND:20000204T060000Z
SUMMARY:Blackout 2000 featuring Redman & Methodman
CLASS:PUBLIC
DTSTAMP:20260425T172715Z
END:VEVENT
END:VCALENDAR