BEGIN:VCALENDAR
VERSION:2.0
PRODID:Outkast
BEGIN:VEVENT
UID:69e54ad7cdec3
DTSTART:19991203T060000Z
SEQUENCE:0
TRANSP:OPAQUE
DTEND:19991203T060000Z
SUMMARY:Outkast
CLASS:PUBLIC
DTSTAMP:20260419T213623Z
END:VEVENT
END:VCALENDAR