BEGIN:VCALENDAR
VERSION:2.0
PRODID:Physics Force
BEGIN:VEVENT
UID:69e5982846ec4
DTSTART:19990507T050000Z
SEQUENCE:0
TRANSP:OPAQUE
DTEND:19990507T050000Z
SUMMARY:Physics Force
CLASS:PUBLIC
DTSTAMP:20260420T030616Z
END:VEVENT
END:VCALENDAR