BEGIN:VCALENDAR
VERSION:2.0
PRODID:John Fogerty
BEGIN:VEVENT
UID:69e5e94319120
DTSTART:19980616T050000Z
SEQUENCE:0
TRANSP:OPAQUE
DTEND:19980616T050000Z
SUMMARY:John Fogerty
CLASS:PUBLIC
DTSTAMP:20260420T085219Z
END:VEVENT
END:VCALENDAR