BEGIN:VCALENDAR
VERSION:2.0
PRODID:Violent Femmes
BEGIN:VEVENT
UID:69e5b099c542f
DTSTART:19980516T050000Z
SEQUENCE:0
TRANSP:OPAQUE
DTEND:19980516T050000Z
SUMMARY:Violent Femmes
CLASS:PUBLIC
DTSTAMP:20260420T045033Z
END:VEVENT
END:VCALENDAR