BEGIN:VCALENDAR
VERSION:2.0
PRODID:Carbone 14
BEGIN:VEVENT
UID:69e8a432861e9
DTSTART:19980321T060000Z
SEQUENCE:0
TRANSP:OPAQUE
DTEND:19980321T060000Z
SUMMARY:Carbone 14
CLASS:PUBLIC
DTSTAMP:20260422T103426Z
END:VEVENT
END:VCALENDAR