BEGIN:VCALENDAR
VERSION:2.0
PRODID:Jose Limon Dance
BEGIN:VEVENT
UID:69e63dbdeb331
DTSTART:19980320T060000Z
SEQUENCE:0
TRANSP:OPAQUE
DTEND:19980320T060000Z
SUMMARY:Jose Limon Dance
CLASS:PUBLIC
DTSTAMP:20260420T145245Z
END:VEVENT
END:VCALENDAR