BEGIN:VCALENDAR
VERSION:2.0
PRODID:Jars of Clay
BEGIN:VEVENT
UID:69e598507d6f9
DTSTART:19971031T060000Z
SEQUENCE:0
TRANSP:OPAQUE
DTEND:19971031T060000Z
SUMMARY:Jars of Clay
CLASS:PUBLIC
DTSTAMP:20260420T030656Z
END:VEVENT
END:VCALENDAR