BEGIN:VCALENDAR
VERSION:2.0
PRODID:Gallagher
BEGIN:VEVENT
UID:69e6cb309d139
DTSTART:19970927T050000Z
SEQUENCE:0
TRANSP:OPAQUE
DTEND:19970927T050000Z
SUMMARY:Gallagher
CLASS:PUBLIC
DTSTAMP:20260421T005616Z
END:VEVENT
END:VCALENDAR